BEGIN:VCALENDAR
METHOD:PUBLISH
VERSION:2.0
CALSCALE:GREGORIAN
PRODID:-//NONSGML WPForms//NONSGML Sugar Calendar Feeds v3.11.0//EN
X-WR-CALNAME:Sunday Worship December 13
X-WR-CALDESC:First Congregational Church of Huntley
X-WR-TIMEZONE:America/Chicago
BEGIN:VTIMEZONE
TZID:America/Chicago
BEGIN:STANDARD
TZOFFSETFROM:-0500
TZOFFSETTO:-0600
DTSTART:20201101T070000
TZNAME:CST
END:STANDARD
END:VTIMEZONE
BEGIN:VTIMEZONE
TZID:America/Chicago
BEGIN:STANDARD
TZOFFSETFROM:-0500
TZOFFSETTO:-0600
DTSTART:20201101T070000
TZNAME:CST
END:STANDARD
END:VTIMEZONE
BEGIN:VEVENT
SUMMARY:Sunday Worship December 13
DESCRIPTION:
URL;VALUE=URI:https://fcchuntley.org/events/sunday-worship-december-13/
UID:urn:uuid:0db30176-92d2-45d1-9bc2-ad5fb1d5f1c6
STATUS:CONFIRMED
ORGANIZER:
DTSTAMP:20260421T081824Z
DTSTART;VALUE=DATE:20201213
END:VEVENT
END:VCALENDAR