BEGIN:VCALENDAR
METHOD:PUBLISH
VERSION:2.0
CALSCALE:GREGORIAN
PRODID:-//NONSGML WPForms//NONSGML Sugar Calendar Feeds v3.11.0//EN
X-WR-CALNAME:Pastor's Devotion November 18
X-WR-CALDESC:First Congregational Church of Huntley
X-WR-TIMEZONE:America/Chicago
BEGIN:VTIMEZONE
TZID:America/Chicago
BEGIN:STANDARD
TZOFFSETFROM:-0500
TZOFFSETTO:-0600
DTSTART:20201101T070000
TZNAME:CST
END:STANDARD
END:VTIMEZONE
BEGIN:VTIMEZONE
TZID:America/Chicago
BEGIN:STANDARD
TZOFFSETFROM:-0500
TZOFFSETTO:-0600
DTSTART:20201101T070000
TZNAME:CST
END:STANDARD
END:VTIMEZONE
BEGIN:VEVENT
SUMMARY:Pastor's Devotion November 18
DESCRIPTION:
URL;VALUE=URI:https://fcchuntley.org/events/pastors-devotion-november-18
 /
UID:urn:uuid:03b208ed-6351-4a2d-9ff1-bb0f5835b19c
STATUS:CONFIRMED
ORGANIZER:
DTSTAMP:20260421T080355Z
DTSTART;VALUE=DATE:20201118
END:VEVENT
END:VCALENDAR