BEGIN:VCALENDAR
METHOD:PUBLISH
VERSION:2.0
CALSCALE:GREGORIAN
PRODID:-//NONSGML WPForms//NONSGML Sugar Calendar Feeds v3.11.0//EN
X-WR-CALNAME:Cub Scout Meeting - Davis
X-WR-CALDESC:First Congregational Church of Huntley
X-WR-TIMEZONE:America/Chicago
BEGIN:VTIMEZONE
TZID:America/Chicago
BEGIN:STANDARD
TZOFFSETFROM:-0500
TZOFFSETTO:-0600
DTSTART:20211107T070000
TZNAME:CST
END:STANDARD
END:VTIMEZONE
BEGIN:VTIMEZONE
TZID:America/Chicago
BEGIN:STANDARD
TZOFFSETFROM:-0500
TZOFFSETTO:-0600
DTSTART:20211107T070000
TZNAME:CST
END:STANDARD
END:VTIMEZONE
BEGIN:VEVENT
SUMMARY:Cub Scout Meeting - Davis
DESCRIPTION:
URL;VALUE=URI:https://fcchuntley.org/events/cub-scout-meeting-davis/
UID:urn:uuid:ef0d3714-0733-4d00-a98b-ddd65c512c01
STATUS:CONFIRMED
ORGANIZER:
DTSTAMP:20260421T083227Z
DTSTART;TZID=America/Chicago:20211205T180000
DTEND;TZID=America/Chicago:20211205T200000
RRULE:FREQ=WEEKLY;INTERVAL=1;UNTIL=20250202T235959Z
END:VEVENT
END:VCALENDAR